BEGIN:VCALENDAR
VERSION:2.0
PRODID:-//Meldungsportal//DE
CALSCALE:GREGORIAN
METHOD:PUBLISH
BEGIN:VEVENT
DTSTART;VALUE=DATE:20260207
DTEND;VALUE=DATE:20260208
SUMMARY:Württembergische Meisterschaft 2026 für U12 / U14 / U17, Gr. röm Stil
LOCATION:Elta Halle Wurmlingen, Frauenwiesen 1, 78573 Wurmlingen
DESCRIPTION:# Württembergische Meisterschaft 2026 für U12/U14/U17, Gr. röm. Stil\n**Termin:** Samstag, 07.02.2026\n**Veranstalter:** Württembergischer Ringerverband e.V.\n**Ausrichter:** AB Wurmlingen\n**Wettkampfstätte:** Elta Halle Wurmlingen, Frauenwiesen 1, 78573 Wurmlingen\n**Meldungen:** [Hier melden](https://wrv.turnier.nm-dc.de)\nbei Fragen oder Problemen bitte an [Sascha Kittelberger (jugendreferent@ringen-wrv.de)](mailto:jugendreferent@ringen-wrv.de) wenden\n**Meldeschluss:** 31.01.2026\n**Startgebühr:** 12 €\n**Teilnahmeberechtigung:** Sportler, die im Besitz eines gültigen Startausweises des WRV sind\n**Waage:** 8:8:30–9:00 h\n**Eröffnung und Beginn:** 9:45 Uhr\n**Stilart:** Gr.röm Stil\n**Altersklasse:**\n– U17, Jahrgänge 2009 – 2011\n– U14, Jahrgänge 2012 – 2013\n– U12, Jahrgänge 2014 – 2015\n\n**Gewichtsklassen:**\n– U17: 42, 45, 48, 51, 55, 60, 65, 71, 80, 92, 110 Kg\n– U14: 35, 38, 41, 44, 48, 52, 57, 62, 68, 80 Kg\n– U12: Die Gewichtsklassen werden nach dem Wiegen eingeteilt,\nca. 11 Gewichtsklassen\nEs gelten die vereinbarten RiKa-Regeln\n**Kampfdauer:** max. 2 × 2 Minuten, 30 Sekunden Pause\n**Siegerauszeichnung:** Die drei Erstplatzierten jeder Gewichtsklasse erhalten eine Medaille (Gold, Silber, Bronze) sowie eine Urkunde. Ebenso von Platz 4 bis 6. Voraussetzung ist ein Sieg. Zur Siegerehrung ist in Sportbekleidung anzutreten.\n**Wettkampfbestimmungen:** im Freistil und gr.-röm. Gilt das aktuelle Regelwerk der UWW bzw. des DRB! Sollte es zu kurzfristigen Änderungen kommen, werden wir dies zeitnah übernehmen. Entgegen den internationalen Wettkampfregeln von UWW bleibt es national bei der Verletzungs-Unterbrechungszeit von 2 Minuten. (Ausnahme: blutende Wunden = 4 Minuten)\n**Wettkampfsystem:** Analog DRB – bei nur 2 Teilnehmern in einer Gewichtsklasse muss der Turniersieger 2 Siege erreichen.\n**Schiedsgericht:** RA 1 des WRV\n**Proteste:** [Proteste siehe Rechtsordnung des DRB](http://www.ringen.de/Downloads/Rechtsordnung.pdf)\n\n**Matthias Thimm** WRV-Vize Präsident-Sport\n**Günter Maienschein** WRV-Präsident\n**Sascha Kittelberger** WRV-Jugendreferent
END:VEVENT
END:VCALENDAR